BEGIN:VCALENDAR
VERSION:2.0
PRODID:-//The Cliff Dwellers - ECPv6.15.20//NONSGML v1.0//EN
CALSCALE:GREGORIAN
METHOD:PUBLISH
X-ORIGINAL-URL:https://cliff-chicago.org
X-WR-CALDESC:Events for The Cliff Dwellers
REFRESH-INTERVAL;VALUE=DURATION:PT1H
X-Robots-Tag:noindex
X-PUBLISHED-TTL:PT1H
BEGIN:VTIMEZONE
TZID:America/Chicago
BEGIN:DAYLIGHT
TZOFFSETFROM:-0600
TZOFFSETTO:-0500
TZNAME:CDT
DTSTART:20240310T080000
END:DAYLIGHT
BEGIN:STANDARD
TZOFFSETFROM:-0500
TZOFFSETTO:-0600
TZNAME:CST
DTSTART:20241103T070000
END:STANDARD
BEGIN:DAYLIGHT
TZOFFSETFROM:-0600
TZOFFSETTO:-0500
TZNAME:CDT
DTSTART:20250309T080000
END:DAYLIGHT
BEGIN:STANDARD
TZOFFSETFROM:-0500
TZOFFSETTO:-0600
TZNAME:CST
DTSTART:20251102T070000
END:STANDARD
BEGIN:DAYLIGHT
TZOFFSETFROM:-0600
TZOFFSETTO:-0500
TZNAME:CDT
DTSTART:20260308T080000
END:DAYLIGHT
BEGIN:STANDARD
TZOFFSETFROM:-0500
TZOFFSETTO:-0600
TZNAME:CST
DTSTART:20261101T070000
END:STANDARD
END:VTIMEZONE
BEGIN:VEVENT
DTSTART;TZID=America/Chicago:20251009T190000
DTEND;TZID=America/Chicago:20251009T213000
DTSTAMP:20260420T085627
CREATED:20250915T205756Z
LAST-MODIFIED:20251016T135901Z
UID:6255-1760036400-1760045400@cliff-chicago.org
SUMMARY:Amelie - Theatre Club Outing
DESCRIPTION:SOLD OUT! \nThe Cliff Dwellers Theatre Club traveled to the intimate Chopin Theatre to catch the charming stage adaptation of Amelie. \nWe spent a little time in Paris (Monmartre\, to be exact) with the Chicago premiere of Amelie\, based on the 2001 movie…the delightful tale of a young woman and the fantastical world of whimsey and romance that surrounds here. \nCurtain time: 7:00 p.m.\nShow Tickets Only: $62 \nContact Rick Frendt at\nrfrendt@comcast.net / 708-359-0806 \n 
URL:https://cliff-chicago.org/club-event/amelie-theatre-outing/
CATEGORIES:Past Event,Theatre
ATTACH;FMTTYPE=image/png:https://cliff-chicago.org/wp-content/uploads/2025/09/Amelie.png
END:VEVENT
END:VCALENDAR