BEGIN:VCALENDAR
VERSION:2.0
PRODID:-//The Cliff Dwellers - ECPv6.15.20//NONSGML v1.0//EN
CALSCALE:GREGORIAN
METHOD:PUBLISH
X-WR-CALNAME:The Cliff Dwellers
X-ORIGINAL-URL:https://cliff-chicago.org
X-WR-CALDESC:Events for The Cliff Dwellers
REFRESH-INTERVAL;VALUE=DURATION:PT1H
X-Robots-Tag:noindex
X-PUBLISHED-TTL:PT1H
BEGIN:VTIMEZONE
TZID:America/Chicago
BEGIN:DAYLIGHT
TZOFFSETFROM:-0600
TZOFFSETTO:-0500
TZNAME:CDT
DTSTART:20240310T080000
END:DAYLIGHT
BEGIN:STANDARD
TZOFFSETFROM:-0500
TZOFFSETTO:-0600
TZNAME:CST
DTSTART:20241103T070000
END:STANDARD
BEGIN:DAYLIGHT
TZOFFSETFROM:-0600
TZOFFSETTO:-0500
TZNAME:CDT
DTSTART:20250309T080000
END:DAYLIGHT
BEGIN:STANDARD
TZOFFSETFROM:-0500
TZOFFSETTO:-0600
TZNAME:CST
DTSTART:20251102T070000
END:STANDARD
BEGIN:DAYLIGHT
TZOFFSETFROM:-0600
TZOFFSETTO:-0500
TZNAME:CDT
DTSTART:20260308T080000
END:DAYLIGHT
BEGIN:STANDARD
TZOFFSETFROM:-0500
TZOFFSETTO:-0600
TZNAME:CST
DTSTART:20261101T070000
END:STANDARD
END:VTIMEZONE
BEGIN:VEVENT
DTSTART;TZID=America/Chicago:20251002T123000
DTEND;TZID=America/Chicago:20251002T143000
DTSTAMP:20260420T201351
CREATED:20250915T192453Z
LAST-MODIFIED:20251003T201300Z
UID:6250-1759408200-1759415400@cliff-chicago.org
SUMMARY:Honorary Member Luncheon - Victor Alejandro Sorell
DESCRIPTION:The Cliff Dwellers hosted a festive event on Thursday\, October 2. They celebrated Honorary Member\, public art historian Victor Alejandro Sorell with a delicious\, Latin-American cuisine luncheon\, music\, and of course\, a special award ceremony. \nBuffet: 12:30 p.m. to 2:30 p.m.\nAward ceremony: 1:00 p.m.\nMusic by Paul Giallorenzo \nBuffet lunch: $34 member/$40 non-member \nReservations required. RSVP by September 24\, 2025\nreservations@cliff-chicago.org or call 312-922-8080 \n 
URL:https://cliff-chicago.org/club-event/honorary-member-luncheon-victor-alejandro-sorell/
CATEGORIES:Past Event
ATTACH;FMTTYPE=image/png:https://cliff-chicago.org/wp-content/uploads/2023/06/Logo-Medium.png
END:VEVENT
END:VCALENDAR