BEGIN:VCALENDAR
VERSION:2.0
PRODID:-//The Cliff Dwellers - ECPv6.15.20//NONSGML v1.0//EN
CALSCALE:GREGORIAN
METHOD:PUBLISH
X-WR-CALNAME:The Cliff Dwellers
X-ORIGINAL-URL:https://cliff-chicago.org
X-WR-CALDESC:Events for The Cliff Dwellers
REFRESH-INTERVAL;VALUE=DURATION:PT1H
X-Robots-Tag:noindex
X-PUBLISHED-TTL:PT1H
BEGIN:VTIMEZONE
TZID:America/Chicago
BEGIN:DAYLIGHT
TZOFFSETFROM:-0600
TZOFFSETTO:-0500
TZNAME:CDT
DTSTART:20230312T080000
END:DAYLIGHT
BEGIN:STANDARD
TZOFFSETFROM:-0500
TZOFFSETTO:-0600
TZNAME:CST
DTSTART:20231105T070000
END:STANDARD
BEGIN:DAYLIGHT
TZOFFSETFROM:-0600
TZOFFSETTO:-0500
TZNAME:CDT
DTSTART:20240310T080000
END:DAYLIGHT
BEGIN:STANDARD
TZOFFSETFROM:-0500
TZOFFSETTO:-0600
TZNAME:CST
DTSTART:20241103T070000
END:STANDARD
BEGIN:DAYLIGHT
TZOFFSETFROM:-0600
TZOFFSETTO:-0500
TZNAME:CDT
DTSTART:20250309T080000
END:DAYLIGHT
BEGIN:STANDARD
TZOFFSETFROM:-0500
TZOFFSETTO:-0600
TZNAME:CST
DTSTART:20251102T070000
END:STANDARD
END:VTIMEZONE
BEGIN:VEVENT
DTSTART;TZID=America/Chicago:20241026T103000
DTEND;TZID=America/Chicago:20241026T120000
DTSTAMP:20260420T170203
CREATED:20241010T005636Z
LAST-MODIFIED:20241118T185609Z
UID:5797-1729938600-1729944000@cliff-chicago.org
SUMMARY:Sketch Club
DESCRIPTION:The Cliff Dwellers Sketch Club had another successful meeting drawing and sketching still lifes! \nAll are always welcome! \nWhat is the Cliff Dwellers Sketch Club? \n\nOpen to all skill levels.\nCasual\, non-judgmental\nUse what you like (pen\, pencil\, watercolor\, etc.)\nSketch what you want (start in the Kiva)\nLearn from each other\, meet\, sketch\, and have fun!\n\nPlease join us to make a sketch and share it with others! \n 
URL:https://cliff-chicago.org/club-event/sketch-club/
LOCATION:Lurie Garden
CATEGORIES:Art,Experience,Past Event
ATTACH;FMTTYPE=image/jpeg:https://cliff-chicago.org/wp-content/uploads/2024/05/thumbnail_IMG_4493.jpg
END:VEVENT
BEGIN:VEVENT
DTSTART;TZID=America/Chicago:20241026T110000
DTEND;TZID=America/Chicago:20241026T120000
DTSTAMP:20260420T170203
CREATED:20240618T195002Z
LAST-MODIFIED:20250621T061342Z
UID:5492-1729940400-1729944000@cliff-chicago.org
SUMMARY:The Cliff Dwellers Book Club - Julius Rosenwald
DESCRIPTION:Julius Rosenwald: Repairing the World – by Hasia Diner\n 
URL:https://cliff-chicago.org/club-event/the-cliff-dwellers-book-club-heat-wave/
CATEGORIES:Book Club,Past Event
ATTACH;FMTTYPE=image/jpeg:https://cliff-chicago.org/wp-content/uploads/2024/06/book-e1750489731112.jpg
END:VEVENT
END:VCALENDAR