BEGIN:VCALENDAR
VERSION:2.0
PRODID:-//The Cliff Dwellers - ECPv6.15.20//NONSGML v1.0//EN
CALSCALE:GREGORIAN
METHOD:PUBLISH
X-WR-CALNAME:The Cliff Dwellers
X-ORIGINAL-URL:https://cliff-chicago.org
X-WR-CALDESC:Events for The Cliff Dwellers
REFRESH-INTERVAL;VALUE=DURATION:PT1H
X-Robots-Tag:noindex
X-PUBLISHED-TTL:PT1H
BEGIN:VTIMEZONE
TZID:America/Chicago
BEGIN:DAYLIGHT
TZOFFSETFROM:-0600
TZOFFSETTO:-0500
TZNAME:CDT
DTSTART:20230312T080000
END:DAYLIGHT
BEGIN:STANDARD
TZOFFSETFROM:-0500
TZOFFSETTO:-0600
TZNAME:CST
DTSTART:20231105T070000
END:STANDARD
BEGIN:DAYLIGHT
TZOFFSETFROM:-0600
TZOFFSETTO:-0500
TZNAME:CDT
DTSTART:20240310T080000
END:DAYLIGHT
BEGIN:STANDARD
TZOFFSETFROM:-0500
TZOFFSETTO:-0600
TZNAME:CST
DTSTART:20241103T070000
END:STANDARD
BEGIN:DAYLIGHT
TZOFFSETFROM:-0600
TZOFFSETTO:-0500
TZNAME:CDT
DTSTART:20250309T080000
END:DAYLIGHT
BEGIN:STANDARD
TZOFFSETFROM:-0500
TZOFFSETTO:-0600
TZNAME:CST
DTSTART:20251102T070000
END:STANDARD
END:VTIMEZONE
BEGIN:VEVENT
DTSTART;TZID=America/Chicago:20240719T173000
DTEND;TZID=America/Chicago:20240719T230000
DTSTAMP:20260420T165535
CREATED:20240506T113909Z
LAST-MODIFIED:20240721T172200Z
UID:5375-1721410200-1721430000@cliff-chicago.org
SUMMARY:Midnight in the Garden of Good and Evil
DESCRIPTION:The newly formed Cliff Dwellers Theatre Club secured a limited block of tickets to see the Goodman Theatre’s world premiere musical adaptation of the best selling novel Midnight in the Garden of Good and Evil.  The Cliff Dwellers’ unique connection to the show comes via the Goodman having borrowed the Club’s replica of the renowned “Bird Girl” sculpture (now a well-known symbol of the story’s setting of Savannah\, Georgia) to feature in the production. \nPrior to the performance\, Theatre Club members were treated a special Southern-themed three-course dinner developed by the Cliff Dwellers own amazing Chef Erick. \nThe Theatre Club will be planning additional group events in the months to come\, and all Cliff Dwellers are welcome to join the outings! \n 
URL:https://cliff-chicago.org/club-event/midnight-in-the-garden-of-good-and-evil-the-musical/
CATEGORIES:Past Event,Theatre
ATTACH;FMTTYPE=image/jpeg:https://cliff-chicago.org/wp-content/uploads/2024/05/Bird-Girl-Statue.jpg
END:VEVENT
END:VCALENDAR