BEGIN:VCALENDAR
VERSION:2.0
PRODID:-//The Cliff Dwellers - ECPv6.15.20//NONSGML v1.0//EN
CALSCALE:GREGORIAN
METHOD:PUBLISH
X-WR-CALNAME:The Cliff Dwellers
X-ORIGINAL-URL:https://cliff-chicago.org
X-WR-CALDESC:Events for The Cliff Dwellers
REFRESH-INTERVAL;VALUE=DURATION:PT1H
X-Robots-Tag:noindex
X-PUBLISHED-TTL:PT1H
BEGIN:VTIMEZONE
TZID:America/Chicago
BEGIN:DAYLIGHT
TZOFFSETFROM:-0600
TZOFFSETTO:-0500
TZNAME:CDT
DTSTART:20240310T080000
END:DAYLIGHT
BEGIN:STANDARD
TZOFFSETFROM:-0500
TZOFFSETTO:-0600
TZNAME:CST
DTSTART:20241103T070000
END:STANDARD
BEGIN:DAYLIGHT
TZOFFSETFROM:-0600
TZOFFSETTO:-0500
TZNAME:CDT
DTSTART:20250309T080000
END:DAYLIGHT
BEGIN:STANDARD
TZOFFSETFROM:-0500
TZOFFSETTO:-0600
TZNAME:CST
DTSTART:20251102T070000
END:STANDARD
BEGIN:DAYLIGHT
TZOFFSETFROM:-0600
TZOFFSETTO:-0500
TZNAME:CDT
DTSTART:20260308T080000
END:DAYLIGHT
BEGIN:STANDARD
TZOFFSETFROM:-0500
TZOFFSETTO:-0600
TZNAME:CST
DTSTART:20261101T070000
END:STANDARD
END:VTIMEZONE
BEGIN:VEVENT
DTSTART;TZID=America/Chicago:20251003T173000
DTEND;TZID=America/Chicago:20251003T223000
DTSTAMP:20260421T090822
CREATED:20250818T224433Z
LAST-MODIFIED:20251005T130416Z
UID:6206-1759512600-1759530600@cliff-chicago.org
SUMMARY:Jazz Night
DESCRIPTION:Jazz Night returned to the Cliff Dwellers with the sparking talents of jazz vocalist Alyssa Allgood\, pianist Jake Shapira\, and bassist Sam Peters. Alyssa was named a “Rising Star Female Vocalist” in the DownBeat Magazine Critics Poll for the second consecutive year\, and was voted “Best Individual Jazz Musician” in this year’s Chicago Reader Poll. She tours nationally\, and recently had her photo added to the Jazz Showcase Wall of Fame. \nQuestions? Comments? contact Lindsay Huge at lchuge@aol.com / 773-972-1110 \n 
URL:https://cliff-chicago.org/club-event/jazz-night-is-back/
CATEGORIES:Jazz,Music,Past Event
ATTACH;FMTTYPE=image/jpeg:https://cliff-chicago.org/wp-content/uploads/2025/08/Alyssa-Algood-copy.jpg
END:VEVENT
END:VCALENDAR