BEGIN:VCALENDAR
VERSION:2.0
PRODID:-//The Cliff Dwellers - ECPv6.15.20//NONSGML v1.0//EN
CALSCALE:GREGORIAN
METHOD:PUBLISH
X-ORIGINAL-URL:https://cliff-chicago.org
X-WR-CALDESC:Events for The Cliff Dwellers
REFRESH-INTERVAL;VALUE=DURATION:PT1H
X-Robots-Tag:noindex
X-PUBLISHED-TTL:PT1H
BEGIN:VTIMEZONE
TZID:America/Chicago
BEGIN:DAYLIGHT
TZOFFSETFROM:-0600
TZOFFSETTO:-0500
TZNAME:CDT
DTSTART:20250309T080000
END:DAYLIGHT
BEGIN:STANDARD
TZOFFSETFROM:-0500
TZOFFSETTO:-0600
TZNAME:CST
DTSTART:20251102T070000
END:STANDARD
BEGIN:DAYLIGHT
TZOFFSETFROM:-0600
TZOFFSETTO:-0500
TZNAME:CDT
DTSTART:20260308T080000
END:DAYLIGHT
BEGIN:STANDARD
TZOFFSETFROM:-0500
TZOFFSETTO:-0600
TZNAME:CST
DTSTART:20261101T070000
END:STANDARD
BEGIN:DAYLIGHT
TZOFFSETFROM:-0600
TZOFFSETTO:-0500
TZNAME:CDT
DTSTART:20270314T080000
END:DAYLIGHT
BEGIN:STANDARD
TZOFFSETFROM:-0500
TZOFFSETTO:-0600
TZNAME:CST
DTSTART:20271107T070000
END:STANDARD
END:VTIMEZONE
BEGIN:VEVENT
DTSTART;TZID=America/Chicago:20260501T120000
DTEND;TZID=America/Chicago:20260501T133000
DTSTAMP:20260422T130547
CREATED:20260328T022819Z
LAST-MODIFIED:20260328T022819Z
UID:6512-1777636800-1777642200@cliff-chicago.org
SUMMARY:Poetry Society Lunch
DESCRIPTION:Join our friendly group of poetry enthusiasts for an always lively literary discussion. This month’s topic will be announced soon! \nAll are welcome! No poetry writing skills needed\, just an active interest of the art form. \nPlan on attending? Reservations are appreciated.
URL:https://cliff-chicago.org/club-event/poetry-society-lunch-12/
CATEGORIES:Lunch,Poetry
ATTACH;FMTTYPE=image/jpeg:https://cliff-chicago.org/wp-content/uploads/2026/03/Poetry-copy.jpg
END:VEVENT
BEGIN:VEVENT
DTSTART;TZID=America/Chicago:20260512T120000
DTEND;TZID=America/Chicago:20260512T120000
DTSTAMP:20260422T130547
CREATED:20260324T152119Z
LAST-MODIFIED:20260324T152119Z
UID:6509-1778587200-1778587200@cliff-chicago.org
SUMMARY:Monthly Lunch Buffet
DESCRIPTION:Great food and great company at our “Second Tuesday” monthly buffet lunch served from 12:00pm to 2:00pm. \n\n\nPlease let the Club know if you’ll be stopping in by Tuesday\, May 5.\nreservations@cliff-chicago.org or 312-922-8080
URL:https://cliff-chicago.org/club-event/monthly-lunch-buffet-17/
CATEGORIES:Lunch
ATTACH;FMTTYPE=image/png:https://cliff-chicago.org/wp-content/uploads/2025/02/rfrendt_A_sign_featuring_the_words_Lunch_Buffet_decorated_in__201b7807-4bb5-4043-8654-6a6fc7f9a98f_3.png
END:VEVENT
BEGIN:VEVENT
DTSTART;TZID=America/Chicago:20260516T113000
DTEND;TZID=America/Chicago:20260516T133000
DTSTAMP:20260422T130547
CREATED:20250902T180115Z
LAST-MODIFIED:20250902T180115Z
UID:6225-1778931000-1778938200@cliff-chicago.org
SUMMARY:Saturday Brunch!
DESCRIPTION:The Club will be open for a Saturday buffet lunch\, starting at 11:30 am\, with a last seating at 1:30 pm. Come enjoy a weekend\n\nReserve your spot by Friday\, May 8\nreservations@cliff-chicago.org or 312-922-8080
URL:https://cliff-chicago.org/club-event/saturday-brunch-5/
CATEGORIES:Lunch
ATTACH;FMTTYPE=image/jpeg:https://cliff-chicago.org/wp-content/uploads/2025/04/Buffet-1.jpg
END:VEVENT
BEGIN:VEVENT
DTSTART;TZID=America/Chicago:20260718T113000
DTEND;TZID=America/Chicago:20260718T133000
DTSTAMP:20260422T130547
CREATED:20250902T180243Z
LAST-MODIFIED:20250902T180243Z
UID:6228-1784374200-1784381400@cliff-chicago.org
SUMMARY:Saturday Brunch!
DESCRIPTION:The Club will be open for a Saturday buffet lunch\, starting at 11:30 am\, with a last seating at 1:30 pm. Come enjoy a weekend\n\nReserve your spot by Friday\, July 10\nreservations@cliff-chicago.org or 312-922-8080
URL:https://cliff-chicago.org/club-event/saturday-brunch-6/
CATEGORIES:Lunch
ATTACH;FMTTYPE=image/jpeg:https://cliff-chicago.org/wp-content/uploads/2025/04/Buffet-1.jpg
END:VEVENT
END:VCALENDAR