BEGIN:VCALENDAR
VERSION:2.0
PRODID:-//The Cliff Dwellers - ECPv6.15.20//NONSGML v1.0//EN
CALSCALE:GREGORIAN
METHOD:PUBLISH
X-ORIGINAL-URL:https://cliff-chicago.org
X-WR-CALDESC:Events for The Cliff Dwellers
REFRESH-INTERVAL;VALUE=DURATION:PT1H
X-Robots-Tag:noindex
X-PUBLISHED-TTL:PT1H
BEGIN:VTIMEZONE
TZID:America/Chicago
BEGIN:DAYLIGHT
TZOFFSETFROM:-0600
TZOFFSETTO:-0500
TZNAME:CDT
DTSTART:20250309T080000
END:DAYLIGHT
BEGIN:STANDARD
TZOFFSETFROM:-0500
TZOFFSETTO:-0600
TZNAME:CST
DTSTART:20251102T070000
END:STANDARD
BEGIN:DAYLIGHT
TZOFFSETFROM:-0600
TZOFFSETTO:-0500
TZNAME:CDT
DTSTART:20260308T080000
END:DAYLIGHT
BEGIN:STANDARD
TZOFFSETFROM:-0500
TZOFFSETTO:-0600
TZNAME:CST
DTSTART:20261101T070000
END:STANDARD
BEGIN:DAYLIGHT
TZOFFSETFROM:-0600
TZOFFSETTO:-0500
TZNAME:CDT
DTSTART:20270314T080000
END:DAYLIGHT
BEGIN:STANDARD
TZOFFSETFROM:-0500
TZOFFSETTO:-0600
TZNAME:CST
DTSTART:20271107T070000
END:STANDARD
END:VTIMEZONE
BEGIN:VEVENT
DTSTART;TZID=America/Chicago:20260210T120000
DTEND;TZID=America/Chicago:20260210T140000
DTSTAMP:20260424T084405
CREATED:20260125T234527Z
LAST-MODIFIED:20260125T234551Z
UID:6426-1770724800-1770732000@cliff-chicago.org
SUMMARY:Monthly Lunch Buffet
DESCRIPTION:Great food and great company at our “Second Tuesday” monthly buffet lunch served from 12:00pm to 2:00pm.
URL:https://cliff-chicago.org/club-event/monthly-lunch-buffet-14/
CATEGORIES:Lunch
ATTACH;FMTTYPE=image/png:https://cliff-chicago.org/wp-content/uploads/2025/02/rfrendt_A_sign_featuring_the_words_Lunch_Buffet_decorated_in__201b7807-4bb5-4043-8654-6a6fc7f9a98f_3.png
END:VEVENT
BEGIN:VEVENT
DTSTART;TZID=America/Chicago:20260227T120000
DTEND;TZID=America/Chicago:20260227T133000
DTSTAMP:20260424T084405
CREATED:20260125T234352Z
LAST-MODIFIED:20260202T205916Z
UID:6424-1772193600-1772199000@cliff-chicago.org
SUMMARY:Poetry Society Lunch
DESCRIPTION:Join our friendly group of poetry enthusiasts for a lively discussion on a poet selected by the group. Today’s roundtable will review selected poems of Carl Sandburg\, moderated by Steve Geer. \nAll are welcome! No poetry writing skills needed\, just an appreciation of the art form!
URL:https://cliff-chicago.org/club-event/poetry-society-lunch-10/
CATEGORIES:Lunch,Poetry
ATTACH;FMTTYPE=image/jpeg:https://cliff-chicago.org/wp-content/uploads/2026/01/CarlSandburg.jpg
END:VEVENT
BEGIN:VEVENT
DTSTART;TZID=America/Chicago:20260228T100000
DTEND;TZID=America/Chicago:20260228T120000
DTSTAMP:20260424T084405
CREATED:20260202T000414Z
LAST-MODIFIED:20260331T141651Z
UID:6430-1772272800-1772280000@cliff-chicago.org
SUMMARY:Sketch Club
DESCRIPTION:Field trip to the Field Museum!\nThe Cliff Dwellers Sketch Club will meet at 10 a.m. on Saturday\, February 28 at the South end of the Main Hall of the Field Museum of Natural History. The museum is a treasure trove of sketching inspiration! \nBring your sketch pad\, pencils\, and paint brushes and join the group for a fun morning. All skill levels welcome! \n  \n 
URL:https://cliff-chicago.org/club-event/sketch-club-12/
CATEGORIES:Art,Lunch,Past Event,Sketch Club
ATTACH;FMTTYPE=image/jpeg:https://cliff-chicago.org/wp-content/uploads/2025/03/Sketch-Club.jpg
END:VEVENT
END:VCALENDAR