BEGIN:VCALENDAR
VERSION:2.0
PRODID:-//The Cliff Dwellers - ECPv6.15.20//NONSGML v1.0//EN
CALSCALE:GREGORIAN
METHOD:PUBLISH
X-ORIGINAL-URL:https://cliff-chicago.org
X-WR-CALDESC:Events for The Cliff Dwellers
REFRESH-INTERVAL;VALUE=DURATION:PT1H
X-Robots-Tag:noindex
X-PUBLISHED-TTL:PT1H
BEGIN:VTIMEZONE
TZID:America/Chicago
BEGIN:DAYLIGHT
TZOFFSETFROM:-0600
TZOFFSETTO:-0500
TZNAME:CDT
DTSTART:20250309T080000
END:DAYLIGHT
BEGIN:STANDARD
TZOFFSETFROM:-0500
TZOFFSETTO:-0600
TZNAME:CST
DTSTART:20251102T070000
END:STANDARD
BEGIN:DAYLIGHT
TZOFFSETFROM:-0600
TZOFFSETTO:-0500
TZNAME:CDT
DTSTART:20260308T080000
END:DAYLIGHT
BEGIN:STANDARD
TZOFFSETFROM:-0500
TZOFFSETTO:-0600
TZNAME:CST
DTSTART:20261101T070000
END:STANDARD
BEGIN:DAYLIGHT
TZOFFSETFROM:-0600
TZOFFSETTO:-0500
TZNAME:CDT
DTSTART:20270314T080000
END:DAYLIGHT
BEGIN:STANDARD
TZOFFSETFROM:-0500
TZOFFSETTO:-0600
TZNAME:CST
DTSTART:20271107T070000
END:STANDARD
END:VTIMEZONE
BEGIN:VEVENT
DTSTART;TZID=America/Chicago:20260113T120000
DTEND;TZID=America/Chicago:20260113T140000
DTSTAMP:20260424T103251
CREATED:20251103T120003Z
LAST-MODIFIED:20251103T120003Z
UID:6366-1768305600-1768312800@cliff-chicago.org
SUMMARY:Monthly Lunch Buffet
DESCRIPTION:Great food and great company at our monthly buffet lunch served from 12:00pm to 2:00pm.
URL:https://cliff-chicago.org/club-event/monthly-lunch-buffet-13/
CATEGORIES:Lunch
ATTACH;FMTTYPE=image/png:https://cliff-chicago.org/wp-content/uploads/2025/02/rfrendt_A_sign_featuring_the_words_Lunch_Buffet_decorated_in__201b7807-4bb5-4043-8654-6a6fc7f9a98f_3.png
END:VEVENT
BEGIN:VEVENT
DTSTART;TZID=America/Chicago:20260117T100000
DTEND;TZID=America/Chicago:20260117T113000
DTSTAMP:20260424T103251
CREATED:20260109T170536Z
LAST-MODIFIED:20260205T150052Z
UID:6397-1768644000-1768649400@cliff-chicago.org
SUMMARY:Sketch Club
DESCRIPTION:Drawing is good for the soul! \nThe Cliff Dwellers Sketchers gathered again for artistic inspiration within the Club on Saturday\, January 17. \nAll are always welcom! \n  \n 
URL:https://cliff-chicago.org/club-event/sketch-club-11/
CATEGORIES:Art,Lunch,Past Event,Sketch Club
ATTACH;FMTTYPE=image/jpeg:https://cliff-chicago.org/wp-content/uploads/2025/03/Sketch-Club.jpg
END:VEVENT
BEGIN:VEVENT
DTSTART;TZID=America/Chicago:20260117T113000
DTEND;TZID=America/Chicago:20260117T133000
DTSTAMP:20260424T103251
CREATED:20250902T175638Z
LAST-MODIFIED:20250902T175902Z
UID:6226-1768649400-1768656600@cliff-chicago.org
SUMMARY:Saturday Brunch!
DESCRIPTION:The Club will be open for a Saturday buffet lunch\, starting at 11:30 am\, with a last seating at 1:30 pm. Come enjoy a weekend\n\nReserve your spot by Friday\, January 9\nreservations@cliff-chicago.org or 312-922-8080
URL:https://cliff-chicago.org/club-event/saturday-brunch-3/
CATEGORIES:Lunch
ATTACH;FMTTYPE=image/jpeg:https://cliff-chicago.org/wp-content/uploads/2025/04/Buffet-1.jpg
END:VEVENT
BEGIN:VEVENT
DTSTART;TZID=America/Chicago:20260123T120000
DTEND;TZID=America/Chicago:20260123T133000
DTSTAMP:20260424T103251
CREATED:20260109T165937Z
LAST-MODIFIED:20260205T145731Z
UID:6395-1769169600-1769175000@cliff-chicago.org
SUMMARY:Poetry Society Lunch
DESCRIPTION:Our friendly group of poetry enthusiasts had a lively discussion on the works of Bob Dylan. This month’s event was moderated by Michele Kurlander. \n 
URL:https://cliff-chicago.org/club-event/poetry-society-lunch-9/
CATEGORIES:Lunch,Past Event,Poetry
ATTACH;FMTTYPE=image/jpeg:https://cliff-chicago.org/wp-content/uploads/2026/01/Bob-Dylan-copy.jpg
END:VEVENT
END:VCALENDAR