BEGIN:VCALENDAR
VERSION:2.0
PRODID:-//The Cliff Dwellers - ECPv6.15.20//NONSGML v1.0//EN
CALSCALE:GREGORIAN
METHOD:PUBLISH
X-WR-CALNAME:The Cliff Dwellers
X-ORIGINAL-URL:https://cliff-chicago.org
X-WR-CALDESC:Events for The Cliff Dwellers
REFRESH-INTERVAL;VALUE=DURATION:PT1H
X-Robots-Tag:noindex
X-PUBLISHED-TTL:PT1H
BEGIN:VTIMEZONE
TZID:America/Chicago
BEGIN:DAYLIGHT
TZOFFSETFROM:-0600
TZOFFSETTO:-0500
TZNAME:CDT
DTSTART:20250309T080000
END:DAYLIGHT
BEGIN:STANDARD
TZOFFSETFROM:-0500
TZOFFSETTO:-0600
TZNAME:CST
DTSTART:20251102T070000
END:STANDARD
BEGIN:DAYLIGHT
TZOFFSETFROM:-0600
TZOFFSETTO:-0500
TZNAME:CDT
DTSTART:20260308T080000
END:DAYLIGHT
BEGIN:STANDARD
TZOFFSETFROM:-0500
TZOFFSETTO:-0600
TZNAME:CST
DTSTART:20261101T070000
END:STANDARD
BEGIN:DAYLIGHT
TZOFFSETFROM:-0600
TZOFFSETTO:-0500
TZNAME:CDT
DTSTART:20270314T080000
END:DAYLIGHT
BEGIN:STANDARD
TZOFFSETFROM:-0500
TZOFFSETTO:-0600
TZNAME:CST
DTSTART:20271107T070000
END:STANDARD
END:VTIMEZONE
BEGIN:VEVENT
DTSTART;TZID=America/Chicago:20260522T140000
DTEND;TZID=America/Chicago:20260522T230000
DTSTAMP:20260420T232914
CREATED:20260413T155611Z
LAST-MODIFIED:20260413T162350Z
UID:6538-1779458400-1779490800@cliff-chicago.org
SUMMARY:Club Closed after Lunch for Memorial Day
DESCRIPTION:
URL:https://cliff-chicago.org/club-event/club-closed-after-lunch-for-memorial-day/
CATEGORIES:Club Closures
ATTACH;FMTTYPE=image/jpeg:https://cliff-chicago.org/wp-content/uploads/2023/02/Cliff-Dweller-Logo-1.jpg
END:VEVENT
BEGIN:VEVENT
DTSTART;TZID=America/Chicago:20260529T140000
DTEND;TZID=America/Chicago:20260529T230000
DTSTAMP:20260420T232914
CREATED:20260413T155641Z
LAST-MODIFIED:20260413T155641Z
UID:6539-1780063200-1780095600@cliff-chicago.org
SUMMARY:Club Closed after Lunch for an Exclusive Event
DESCRIPTION:
URL:https://cliff-chicago.org/club-event/club-closed-after-lunch-for-an-exclusive-event-15/
CATEGORIES:Club Closures
ATTACH;FMTTYPE=image/jpeg:https://cliff-chicago.org/wp-content/uploads/2023/02/Cliff-Dweller-Logo-1.jpg
END:VEVENT
BEGIN:VEVENT
DTSTART;TZID=America/Chicago:20260612T140000
DTEND;TZID=America/Chicago:20260612T230000
DTSTAMP:20260420T232914
CREATED:20260413T160317Z
LAST-MODIFIED:20260413T160317Z
UID:6543-1781272800-1781305200@cliff-chicago.org
SUMMARY:Club Closed after Lunch for an Exclusive Event
DESCRIPTION:
URL:https://cliff-chicago.org/club-event/club-closed-after-lunch-for-an-exclusive-event-17/
CATEGORIES:Club Closures
ATTACH;FMTTYPE=image/jpeg:https://cliff-chicago.org/wp-content/uploads/2023/02/Cliff-Dweller-Logo-1.jpg
END:VEVENT
BEGIN:VEVENT
DTSTART;TZID=America/Chicago:20260703T140000
DTEND;TZID=America/Chicago:20260703T230000
DTSTAMP:20260420T232914
CREATED:20260413T155715Z
LAST-MODIFIED:20260413T162412Z
UID:6540-1783087200-1783119600@cliff-chicago.org
SUMMARY:Club Closed after Lunch for Independence Day
DESCRIPTION:
URL:https://cliff-chicago.org/club-event/club-closed-after-lunch-for-an-exclusive-event-16/
CATEGORIES:Club Closures
ATTACH;FMTTYPE=image/jpeg:https://cliff-chicago.org/wp-content/uploads/2023/02/Cliff-Dweller-Logo-1.jpg
END:VEVENT
END:VCALENDAR