BEGIN:VCALENDAR
VERSION:2.0
PRODID:-//The Cliff Dwellers - ECPv6.15.20//NONSGML v1.0//EN
CALSCALE:GREGORIAN
METHOD:PUBLISH
X-WR-CALNAME:The Cliff Dwellers
X-ORIGINAL-URL:https://cliff-chicago.org
X-WR-CALDESC:Events for The Cliff Dwellers
REFRESH-INTERVAL;VALUE=DURATION:PT1H
X-Robots-Tag:noindex
X-PUBLISHED-TTL:PT1H
BEGIN:VTIMEZONE
TZID:America/Chicago
BEGIN:DAYLIGHT
TZOFFSETFROM:-0600
TZOFFSETTO:-0500
TZNAME:CDT
DTSTART:20240310T080000
END:DAYLIGHT
BEGIN:STANDARD
TZOFFSETFROM:-0500
TZOFFSETTO:-0600
TZNAME:CST
DTSTART:20241103T070000
END:STANDARD
BEGIN:DAYLIGHT
TZOFFSETFROM:-0600
TZOFFSETTO:-0500
TZNAME:CDT
DTSTART:20250309T080000
END:DAYLIGHT
BEGIN:STANDARD
TZOFFSETFROM:-0500
TZOFFSETTO:-0600
TZNAME:CST
DTSTART:20251102T070000
END:STANDARD
BEGIN:DAYLIGHT
TZOFFSETFROM:-0600
TZOFFSETTO:-0500
TZNAME:CDT
DTSTART:20260308T080000
END:DAYLIGHT
BEGIN:STANDARD
TZOFFSETFROM:-0500
TZOFFSETTO:-0600
TZNAME:CST
DTSTART:20261101T070000
END:STANDARD
END:VTIMEZONE
BEGIN:VEVENT
DTSTART;TZID=America/Chicago:20251104T140000
DTEND;TZID=America/Chicago:20251104T230000
DTSTAMP:20260420T214742
CREATED:20251031T203408Z
LAST-MODIFIED:20251031T203408Z
UID:6349-1762264800-1762297200@cliff-chicago.org
SUMMARY:Club Closed after Lunch for an Exclusive Event
DESCRIPTION:
URL:https://cliff-chicago.org/club-event/club-closed-after-lunch-for-an-exclusive-event-3/
CATEGORIES:Club Closures
ATTACH;FMTTYPE=image/jpeg:https://cliff-chicago.org/wp-content/uploads/2023/02/Cliff-Dweller-Logo-1.jpg
END:VEVENT
BEGIN:VEVENT
DTSTART;TZID=America/Chicago:20251112T140000
DTEND;TZID=America/Chicago:20251112T230000
DTSTAMP:20260420T214742
CREATED:20251031T203442Z
LAST-MODIFIED:20251031T203442Z
UID:6350-1762956000-1762988400@cliff-chicago.org
SUMMARY:Club Closed after Lunch for an Exclusive Event
DESCRIPTION:
URL:https://cliff-chicago.org/club-event/club-closed-after-lunch-for-an-exclusive-event-4/
CATEGORIES:Club Closures
ATTACH;FMTTYPE=image/jpeg:https://cliff-chicago.org/wp-content/uploads/2023/02/Cliff-Dweller-Logo-1.jpg
END:VEVENT
BEGIN:VEVENT
DTSTART;TZID=America/Chicago:20251126T140000
DTEND;TZID=America/Chicago:20251126T230000
DTSTAMP:20260420T214742
CREATED:20251103T113503Z
LAST-MODIFIED:20251103T113644Z
UID:6357-1764165600-1764198000@cliff-chicago.org
SUMMARY:Club Closed after Lunch for Thanksgiving Holiday
DESCRIPTION:
URL:https://cliff-chicago.org/club-event/club-closed-after-lunch-for-thanksgiving-holiday/
CATEGORIES:Club Closures
ATTACH;FMTTYPE=image/jpeg:https://cliff-chicago.org/wp-content/uploads/2023/02/Cliff-Dweller-Logo-1.jpg
END:VEVENT
BEGIN:VEVENT
DTSTART;VALUE=DATE:20251127
DTEND;VALUE=DATE:20251129
DTSTAMP:20260420T214742
CREATED:20251103T113610Z
LAST-MODIFIED:20251103T115225Z
UID:6358-1764201600-1764374399@cliff-chicago.org
SUMMARY:Club Closed for the Thanksgiving Holiday
DESCRIPTION:
URL:https://cliff-chicago.org/club-event/club-closed-after-lunch-for-thanksgiving-holiday-2/
CATEGORIES:Club Closures
ATTACH;FMTTYPE=image/jpeg:https://cliff-chicago.org/wp-content/uploads/2023/02/Cliff-Dweller-Logo-1.jpg
END:VEVENT
END:VCALENDAR