BEGIN:VCALENDAR
VERSION:2.0
PRODID:-//The Cliff Dwellers - ECPv6.15.20//NONSGML v1.0//EN
CALSCALE:GREGORIAN
METHOD:PUBLISH
X-ORIGINAL-URL:https://cliff-chicago.org
X-WR-CALDESC:Events for The Cliff Dwellers
REFRESH-INTERVAL;VALUE=DURATION:PT1H
X-Robots-Tag:noindex
X-PUBLISHED-TTL:PT1H
BEGIN:VTIMEZONE
TZID:America/Chicago
BEGIN:DAYLIGHT
TZOFFSETFROM:-0600
TZOFFSETTO:-0500
TZNAME:CDT
DTSTART:20230312T080000
END:DAYLIGHT
BEGIN:STANDARD
TZOFFSETFROM:-0500
TZOFFSETTO:-0600
TZNAME:CST
DTSTART:20231105T070000
END:STANDARD
BEGIN:DAYLIGHT
TZOFFSETFROM:-0600
TZOFFSETTO:-0500
TZNAME:CDT
DTSTART:20240310T080000
END:DAYLIGHT
BEGIN:STANDARD
TZOFFSETFROM:-0500
TZOFFSETTO:-0600
TZNAME:CST
DTSTART:20241103T070000
END:STANDARD
BEGIN:DAYLIGHT
TZOFFSETFROM:-0600
TZOFFSETTO:-0500
TZNAME:CDT
DTSTART:20250309T080000
END:DAYLIGHT
BEGIN:STANDARD
TZOFFSETFROM:-0500
TZOFFSETTO:-0600
TZNAME:CST
DTSTART:20251102T070000
END:STANDARD
BEGIN:DAYLIGHT
TZOFFSETFROM:-0600
TZOFFSETTO:-0500
TZNAME:CDT
DTSTART:20260308T080000
END:DAYLIGHT
BEGIN:STANDARD
TZOFFSETFROM:-0500
TZOFFSETTO:-0600
TZNAME:CST
DTSTART:20261101T070000
END:STANDARD
END:VTIMEZONE
BEGIN:VEVENT
DTSTART;TZID=America/Chicago:20241203T120000
DTEND;TZID=America/Chicago:20241203T140000
DTSTAMP:20260423T205100
CREATED:20241026T182555Z
LAST-MODIFIED:20241026T182555Z
UID:5834-1733227200-1733234400@cliff-chicago.org
SUMMARY:Club Open for LUNCH ONLY
DESCRIPTION:Club will be open for LUNCH ONLY due to a private event.
URL:https://cliff-chicago.org/club-event/club-open-for-lunch-only-13/
CATEGORIES:Closure
ATTACH;FMTTYPE=image/jpeg:https://cliff-chicago.org/wp-content/uploads/2024/05/Cliff-Dwellers-Monkey-and-Type-copy.jpg
END:VEVENT
BEGIN:VEVENT
DTSTART;TZID=America/Chicago:20241210T120000
DTEND;TZID=America/Chicago:20241210T140000
DTSTAMP:20260423T205100
CREATED:20241026T183357Z
LAST-MODIFIED:20241026T183357Z
UID:5838-1733832000-1733839200@cliff-chicago.org
SUMMARY:Club Open for LUNCH ONLY
DESCRIPTION:Club will be open for LUNCH ONLY due to a private event.
URL:https://cliff-chicago.org/club-event/club-open-for-lunch-only-14/
CATEGORIES:Closure
ATTACH;FMTTYPE=image/jpeg:https://cliff-chicago.org/wp-content/uploads/2024/05/Cliff-Dwellers-Monkey-and-Type-copy.jpg
END:VEVENT
BEGIN:VEVENT
DTSTART;TZID=America/Chicago:20241212T120000
DTEND;TZID=America/Chicago:20241212T140000
DTSTAMP:20260423T205100
CREATED:20241026T183513Z
LAST-MODIFIED:20241026T183743Z
UID:5839-1734004800-1734012000@cliff-chicago.org
SUMMARY:Club Open for LUNCH ONLY
DESCRIPTION:Club will be open for LUNCH ONLY due to a private event.
URL:https://cliff-chicago.org/club-event/club-open-for-lunch-only-15/
CATEGORIES:Closure
ATTACH;FMTTYPE=image/jpeg:https://cliff-chicago.org/wp-content/uploads/2024/05/Cliff-Dwellers-Monkey-and-Type-copy.jpg
END:VEVENT
BEGIN:VEVENT
DTSTART;TZID=America/Chicago:20241219T120000
DTEND;TZID=America/Chicago:20241219T140000
DTSTAMP:20260423T205100
CREATED:20241026T184648Z
LAST-MODIFIED:20241026T185322Z
UID:5844-1734609600-1734616800@cliff-chicago.org
SUMMARY:Club Open for LUNCH ONLY
DESCRIPTION:Club will be open for LUNCH ONLY due to the holiday season.
URL:https://cliff-chicago.org/club-event/club-open-for-lunch-only-17/
CATEGORIES:Closure
ATTACH;FMTTYPE=image/png:https://cliff-chicago.org/wp-content/uploads/2024/10/Holiday-Closure-Chrismas.png
END:VEVENT
BEGIN:VEVENT
DTSTART;TZID=America/Chicago:20241220T120000
DTEND;TZID=America/Chicago:20241220T140000
DTSTAMP:20260423T205100
CREATED:20241026T185434Z
LAST-MODIFIED:20241026T185434Z
UID:5847-1734696000-1734703200@cliff-chicago.org
SUMMARY:Club Open for LUNCH ONLY
DESCRIPTION:Club will be open for LUNCH ONLY due to the holiday season.
URL:https://cliff-chicago.org/club-event/club-open-for-lunch-only-16/
CATEGORIES:Closure
ATTACH;FMTTYPE=image/png:https://cliff-chicago.org/wp-content/uploads/2024/10/Holiday-Closure-Chrismas.png
END:VEVENT
BEGIN:VEVENT
DTSTART;VALUE=DATE:20241221
DTEND;VALUE=DATE:20250114
DTSTAMP:20260423T205100
CREATED:20241026T184855Z
LAST-MODIFIED:20241026T185504Z
UID:5846-1734739200-1736812799@cliff-chicago.org
SUMMARY:Holiday Closure
DESCRIPTION:Club will be closed for the hol;idays.
URL:https://cliff-chicago.org/club-event/holiday-closure-2/
CATEGORIES:Closure
ATTACH;FMTTYPE=image/png:https://cliff-chicago.org/wp-content/uploads/2024/10/Thanksgiving-Closure.png
END:VEVENT
END:VCALENDAR