BEGIN:VCALENDAR
VERSION:2.0
PRODID:-//The Cliff Dwellers - ECPv6.15.20//NONSGML v1.0//EN
CALSCALE:GREGORIAN
METHOD:PUBLISH
X-ORIGINAL-URL:https://cliff-chicago.org
X-WR-CALDESC:Events for The Cliff Dwellers
REFRESH-INTERVAL;VALUE=DURATION:PT1H
X-Robots-Tag:noindex
X-PUBLISHED-TTL:PT1H
BEGIN:VTIMEZONE
TZID:America/Chicago
BEGIN:DAYLIGHT
TZOFFSETFROM:-0600
TZOFFSETTO:-0500
TZNAME:CDT
DTSTART:20250309T080000
END:DAYLIGHT
BEGIN:STANDARD
TZOFFSETFROM:-0500
TZOFFSETTO:-0600
TZNAME:CST
DTSTART:20251102T070000
END:STANDARD
BEGIN:DAYLIGHT
TZOFFSETFROM:-0600
TZOFFSETTO:-0500
TZNAME:CDT
DTSTART:20260308T080000
END:DAYLIGHT
BEGIN:STANDARD
TZOFFSETFROM:-0500
TZOFFSETTO:-0600
TZNAME:CST
DTSTART:20261101T070000
END:STANDARD
BEGIN:DAYLIGHT
TZOFFSETFROM:-0600
TZOFFSETTO:-0500
TZNAME:CDT
DTSTART:20270314T080000
END:DAYLIGHT
BEGIN:STANDARD
TZOFFSETFROM:-0500
TZOFFSETTO:-0600
TZNAME:CST
DTSTART:20271107T070000
END:STANDARD
END:VTIMEZONE
BEGIN:VEVENT
DTSTART;TZID=America/Chicago:20260310T120000
DTEND;TZID=America/Chicago:20260310T133000
DTSTAMP:20260419T115244
CREATED:20260228T212605Z
LAST-MODIFIED:20260331T141918Z
UID:6478-1773144000-1773149400@cliff-chicago.org
SUMMARY:The Architectural Table
DESCRIPTION:This lively group meets in the Sullivan Room to broach an array of exhilarating architectural topics\, highlighting both the good and the bad! This week\, we’ll discuss the reknown architectural firm of Graham\, Anderson\, Probst & White\, designers of notable Chicago buildings such as the Wrigley Building\, the Civic Opera House\, the Shedd Aquarium\, and the Field Museum. \nreservations@cliff-chicago.org OR call 312-922 8080 \nLet the office know if you’ll be staying for the buffet. \n 
URL:https://cliff-chicago.org/club-event/the-architectural-table-10/
CATEGORIES:Architecture,Brunch,Past Event
ATTACH;FMTTYPE=image/png:https://cliff-chicago.org/wp-content/uploads/2025/05/Architectural-Table-1.png
END:VEVENT
END:VCALENDAR