BEGIN:VCALENDAR
VERSION:2.0
PRODID:-//The Cliff Dwellers - ECPv6.15.20//NONSGML v1.0//EN
CALSCALE:GREGORIAN
METHOD:PUBLISH
X-ORIGINAL-URL:https://cliff-chicago.org
X-WR-CALDESC:Events for The Cliff Dwellers
REFRESH-INTERVAL;VALUE=DURATION:PT1H
X-Robots-Tag:noindex
X-PUBLISHED-TTL:PT1H
BEGIN:VTIMEZONE
TZID:America/Chicago
BEGIN:DAYLIGHT
TZOFFSETFROM:-0600
TZOFFSETTO:-0500
TZNAME:CDT
DTSTART:20240310T080000
END:DAYLIGHT
BEGIN:STANDARD
TZOFFSETFROM:-0500
TZOFFSETTO:-0600
TZNAME:CST
DTSTART:20241103T070000
END:STANDARD
BEGIN:DAYLIGHT
TZOFFSETFROM:-0600
TZOFFSETTO:-0500
TZNAME:CDT
DTSTART:20250309T080000
END:DAYLIGHT
BEGIN:STANDARD
TZOFFSETFROM:-0500
TZOFFSETTO:-0600
TZNAME:CST
DTSTART:20251102T070000
END:STANDARD
BEGIN:DAYLIGHT
TZOFFSETFROM:-0600
TZOFFSETTO:-0500
TZNAME:CDT
DTSTART:20260308T080000
END:DAYLIGHT
BEGIN:STANDARD
TZOFFSETFROM:-0500
TZOFFSETTO:-0600
TZNAME:CST
DTSTART:20261101T070000
END:STANDARD
END:VTIMEZONE
BEGIN:VEVENT
DTSTART;TZID=America/Chicago:20250718T170000
DTEND;TZID=America/Chicago:20250718T203000
DTSTAMP:20260423T041035
CREATED:20250629T211258Z
LAST-MODIFIED:20250629T211258Z
UID:6151-1752858000-1752870600@cliff-chicago.org
SUMMARY:Sketching on the Terrace!
DESCRIPTION:The Cliff Dwellers Sketchers\nare hoping for sunshine and warm weather when we meet for some evening drawing and dinner on the Club terrace (inside if it rains) on Friday\, July 18.  Come by when you can from 5-7 for drawing\, with dinner at 7.  The Sketch Club is open to everyone\, no matter if you’re an artist by trade or a doodler on napkins. We’re a non-judgmental\, supportive\, fun bunch of friendly folks. \nPlease remember to make a reservation for dinner if you plan on dining after drawing!\nreservations@cliff-chicago.org\n312-922-8080
URL:https://cliff-chicago.org/club-event/sketching-on-the-terrace/
CATEGORIES:Art,Dinner
ATTACH;FMTTYPE=image/jpeg:https://cliff-chicago.org/wp-content/uploads/2025/03/Sketch-Club.jpg
END:VEVENT
END:VCALENDAR